BEGIN:VCALENDAR
VERSION:2.0
PRODID:SchoolNow
CALSCALE:GREGORIAN
BEGIN:VEVENT
UID:e5121dde-294a-11f1-a20d-0a58a9feac02
DTSTAMP:20260419T150507Z
SUMMARY:8th Gr Kalahari Trip
URL;VALUE=URI:https://www.netcongschool.org/calendar/8947928/8th-gr-kalahar
 i-trip
DTSTART:20260612T140000Z
DTEND:20260613T033000Z
END:VEVENT
END:VCALENDAR
