BEGIN:VCALENDAR
VERSION:2.0
PRODID:SchoolNow
CALSCALE:GREGORIAN
BEGIN:VEVENT
UID:e51223f6-294a-11f1-9c8d-0a58a9feac02
DTSTAMP:20260419T150507Z
SUMMARY:8th Gr. Trip to NYC
URL;VALUE=URI:https://www.netcongschool.org/calendar/8947930/8th-gr-trip-to
 -nyc
DTSTART:20260603T140000Z
DTEND:20260604T033000Z
END:VEVENT
END:VCALENDAR
