BEGIN:VCALENDAR
VERSION:2.0
PRODID:SchoolNow
CALSCALE:GREGORIAN
BEGIN:VEVENT
UID:e51225b8-294a-11f1-bd8b-0a58a9feac02
DTSTAMP:20260419T090010Z
SUMMARY:8th Gr Philadelphia Trip
URL;VALUE=URI:https://www.netcongschool.org/calendar/8947931/8th-gr-philade
 lphia-trip
DTSTART:20260527T110000Z
DTEND:20260527T230000Z
END:VEVENT
END:VCALENDAR
