BEGIN:VCALENDAR
VERSION:2.0
PRODID:SchoolNow
CALSCALE:GREGORIAN
BEGIN:VEVENT
UID:e51229be-294a-11f1-af38-0a58a9feac02
DTSTAMP:20260419T090010Z
SUMMARY:Mock Trial Law Adventure
URL;VALUE=URI:https://www.netcongschool.org/calendar/8947932/mock-trial-law
 -adventure
DTSTART:20260505T123000Z
DTEND:20260505T180000Z
END:VEVENT
END:VCALENDAR
