BEGIN:VCALENDAR
VERSION:2.0
PRODID:SchoolNow
CALSCALE:GREGORIAN
BEGIN:VEVENT
UID:58892f5e-3838-11f1-9682-02e1d7f5c817
DTSTAMP:20260419T090010Z
SUMMARY:8th Gr. Graduation Photo
URL;VALUE=URI:https://www.netcongschool.org/calendar/8993968/8th-gr-graduat
 ion-photo
DTSTART:20260513T124500Z
DTEND:20260513T134500Z
END:VEVENT
END:VCALENDAR
